BEGIN:VCALENDAR
VERSION:2.0
PRODID:-//CDU in der Stadt Oldenburg - ECPv6.15.20//NONSGML v1.0//EN
CALSCALE:GREGORIAN
METHOD:PUBLISH
X-WR-CALNAME:CDU in der Stadt Oldenburg
X-ORIGINAL-URL:https://cdu-oldenburg.de
X-WR-CALDESC:Veranstaltungen für CDU in der Stadt Oldenburg
REFRESH-INTERVAL;VALUE=DURATION:PT1H
X-Robots-Tag:noindex
X-PUBLISHED-TTL:PT1H
BEGIN:VTIMEZONE
TZID:Europe/Berlin
BEGIN:DAYLIGHT
TZOFFSETFROM:+0100
TZOFFSETTO:+0200
TZNAME:CEST
DTSTART:20220327T010000
END:DAYLIGHT
BEGIN:STANDARD
TZOFFSETFROM:+0200
TZOFFSETTO:+0100
TZNAME:CET
DTSTART:20221030T010000
END:STANDARD
BEGIN:DAYLIGHT
TZOFFSETFROM:+0100
TZOFFSETTO:+0200
TZNAME:CEST
DTSTART:20230326T010000
END:DAYLIGHT
BEGIN:STANDARD
TZOFFSETFROM:+0200
TZOFFSETTO:+0100
TZNAME:CET
DTSTART:20231029T010000
END:STANDARD
BEGIN:DAYLIGHT
TZOFFSETFROM:+0100
TZOFFSETTO:+0200
TZNAME:CEST
DTSTART:20240331T010000
END:DAYLIGHT
BEGIN:STANDARD
TZOFFSETFROM:+0200
TZOFFSETTO:+0100
TZNAME:CET
DTSTART:20241027T010000
END:STANDARD
END:VTIMEZONE
BEGIN:VEVENT
DTSTART;TZID=Europe/Berlin:20231201T190000
DTEND;TZID=Europe/Berlin:20231201T233000
DTSTAMP:20260422T104548
CREATED:20230114T113833Z
LAST-MODIFIED:20240118T160619Z
UID:2810-1701457200-1701473400@cdu-oldenburg.de
SUMMARY:JU Stammtisch
DESCRIPTION:
URL:https://cdu-oldenburg.de/event/ju-stammtisch/
LOCATION:CDU Geschäftsstelle\, Unterm Berg 20\, Oldenburg
CATEGORIES:Öffentliche Veranstaltungen
ORGANIZER;CN="Junge Union Oldenburg-Stadt":MAILTO:kontakt@ju-olstadt.de
END:VEVENT
BEGIN:VEVENT
DTSTART;TZID=Europe/Berlin:20231213T190000
DTEND;TZID=Europe/Berlin:20231213T220000
DTSTAMP:20260422T104548
CREATED:20230114T111600Z
LAST-MODIFIED:20240118T160619Z
UID:2805-1702494000-1702504800@cdu-oldenburg.de
SUMMARY:CDU Weihnachtsfeier
DESCRIPTION:Die alljährliche Weihnachtsfeier der CDU in der Stadt Oldenburg! Dieses Jahr mit Jochen Steinkamp als Gast.
URL:https://cdu-oldenburg.de/event/cdu-intern-test/
LOCATION:Fürstensaal der Klinkerburg Oldenburg\, Bahnhofsplatz 12A\, Oldenburg\, 26122
CATEGORIES:Parteiveranstaltung
ORGANIZER;CN="CDU Oldenburg-Stadt":MAILTO:info@cdu-oldenburg.de
END:VEVENT
END:VCALENDAR