BEGIN:VCALENDAR
VERSION:2.0
PRODID:-//CDU in der Stadt Oldenburg - ECPv6.15.20//NONSGML v1.0//EN
CALSCALE:GREGORIAN
METHOD:PUBLISH
X-ORIGINAL-URL:https://cdu-oldenburg.de
X-WR-CALDESC:Veranstaltungen für CDU in der Stadt Oldenburg
REFRESH-INTERVAL;VALUE=DURATION:PT1H
X-Robots-Tag:noindex
X-PUBLISHED-TTL:PT1H
BEGIN:VTIMEZONE
TZID:Europe/Berlin
BEGIN:DAYLIGHT
TZOFFSETFROM:+0100
TZOFFSETTO:+0200
TZNAME:CEST
DTSTART:20230326T010000
END:DAYLIGHT
BEGIN:STANDARD
TZOFFSETFROM:+0200
TZOFFSETTO:+0100
TZNAME:CET
DTSTART:20231029T010000
END:STANDARD
BEGIN:DAYLIGHT
TZOFFSETFROM:+0100
TZOFFSETTO:+0200
TZNAME:CEST
DTSTART:20240331T010000
END:DAYLIGHT
BEGIN:STANDARD
TZOFFSETFROM:+0200
TZOFFSETTO:+0100
TZNAME:CET
DTSTART:20241027T010000
END:STANDARD
BEGIN:DAYLIGHT
TZOFFSETFROM:+0100
TZOFFSETTO:+0200
TZNAME:CEST
DTSTART:20250330T010000
END:DAYLIGHT
BEGIN:STANDARD
TZOFFSETFROM:+0200
TZOFFSETTO:+0100
TZNAME:CET
DTSTART:20251026T010000
END:STANDARD
END:VTIMEZONE
BEGIN:VEVENT
DTSTART;TZID=Europe/Berlin:20240228T190000
DTEND;TZID=Europe/Berlin:20240228T210000
DTSTAMP:20260422T150142
CREATED:20231229T095521Z
LAST-MODIFIED:20240118T160904Z
UID:2989-1709146800-1709154000@cdu-oldenburg.de
SUMMARY:KPV-Vorstand mit Vortrag
DESCRIPTION:Jens de Boer\, OOWV\, referiert zum Thema „klimaangepasste Stadtplanung in Oldenburg“ \nInfolge des Klimawandels sagen die Forschungsinstitute zunehmend extreme Wetterereignisse voraus. Insbesondere Starkregen macht es erforderlich\, große Wassermengen im Wechsel mit Dürreperioden (zeitweisem Regenwassermangel) zu bewältigen.  \nDiese Entwicklung stellt die lokalen Unternehmen der Wasserwirtschaft vor große Herausforderungen. Insbesondere bei Starkregen sollen nach dem sogenannten „Schwammstadt-Prinzip“ Wasserrückhalteflächen zur Verfügung stehen\, die bei Hitzeperioden durch die Wasserverdunstung zur Kühlung beitragen.  \n Herr Jens de Boer\, Regionalleiter Oldenburg/Ammerland beim OOWV (Oldenburg Ostfriesischer Wasserverband) wird uns am Beispiel der Stadt Oldenburg konkrete Konzepte und Massnahmen präsentieren\, mit denen dies gelingen kann.   \nTagesordnung folgt.
URL:https://cdu-oldenburg.de/event/kpv-vorstand-mit-vortrag/
LOCATION:Hotel & Gesellschaftshaus Wöbken\, Hundsmühler Str. 255\, Oldenburg\, 26131\, Deutschland
CATEGORIES:Sitzung
ORGANIZER;CN="KPV Oldenburg-Stadt":MAILTO:kpv@cdu-oldenburg.de
END:VEVENT
BEGIN:VEVENT
DTSTART;TZID=Europe/Berlin:20240229T180000
DTEND;TZID=Europe/Berlin:20240229T210000
DTSTAMP:20260422T150142
CREATED:20231210T164921Z
LAST-MODIFIED:20240118T160619Z
UID:2982-1709229600-1709240400@cdu-oldenburg.de
SUMMARY:CDU Stammtisch - Februar
DESCRIPTION:
URL:https://cdu-oldenburg.de/event/cdu-stammtisch-februar/
LOCATION:Ratskeller Oldenburg\, Markt 1\, Oldenburg\, 26122
ORGANIZER;CN="CDU Oldenburg-Stadt":MAILTO:info@cdu-oldenburg.de
END:VEVENT
END:VCALENDAR