BEGIN:VCALENDAR
VERSION:2.0
PRODID:-//CDU in der Stadt Oldenburg - ECPv6.15.20//NONSGML v1.0//EN
CALSCALE:GREGORIAN
METHOD:PUBLISH
X-WR-CALNAME:CDU in der Stadt Oldenburg
X-ORIGINAL-URL:https://cdu-oldenburg.de
X-WR-CALDESC:Veranstaltungen für CDU in der Stadt Oldenburg
REFRESH-INTERVAL;VALUE=DURATION:PT1H
X-Robots-Tag:noindex
X-PUBLISHED-TTL:PT1H
BEGIN:VTIMEZONE
TZID:Europe/Berlin
BEGIN:DAYLIGHT
TZOFFSETFROM:+0100
TZOFFSETTO:+0200
TZNAME:CEST
DTSTART:20230326T010000
END:DAYLIGHT
BEGIN:STANDARD
TZOFFSETFROM:+0200
TZOFFSETTO:+0100
TZNAME:CET
DTSTART:20231029T010000
END:STANDARD
BEGIN:DAYLIGHT
TZOFFSETFROM:+0100
TZOFFSETTO:+0200
TZNAME:CEST
DTSTART:20240331T010000
END:DAYLIGHT
BEGIN:STANDARD
TZOFFSETFROM:+0200
TZOFFSETTO:+0100
TZNAME:CET
DTSTART:20241027T010000
END:STANDARD
BEGIN:DAYLIGHT
TZOFFSETFROM:+0100
TZOFFSETTO:+0200
TZNAME:CEST
DTSTART:20250330T010000
END:DAYLIGHT
BEGIN:STANDARD
TZOFFSETFROM:+0200
TZOFFSETTO:+0100
TZNAME:CET
DTSTART:20251026T010000
END:STANDARD
END:VTIMEZONE
BEGIN:VEVENT
DTSTART;TZID=Europe/Berlin:20240309T090000
DTEND;TZID=Europe/Berlin:20240309T110000
DTSTAMP:20260422T163945
CREATED:20240304T182647Z
LAST-MODIFIED:20240304T182647Z
UID:3189-1709974800-1709982000@cdu-oldenburg.de
SUMMARY:Oldenburg räumt auf
DESCRIPTION:Wie jedes Jahr machen wir auch dieses Jahr wieder bei „Oldenburg räumt auf“ mit. Dafür treffen wir uns um 9 Uhr am Bahnhaltepunkt Oldenburg-Wechloy. Für Handschuhe und Müllsäcke ist gesorgt\, ihr müsst also nur gute Laune und sonniges Wetter mitbringen. \nAm Anschluss unserer Sammel-Tour geht es direkt mit der Besprechung des Grundsatzprogramm weiter\, die Teilnahme hieran bietet sich also super als Muntermachen für die wichtigen inhaltlichen Diskussionen an. \nUm kurze Anmeldung vorab wird gebeten.
URL:https://cdu-oldenburg.de/event/oldenburg-raeumt-auf/
LOCATION:Bahnstation Wechloy\, Bäkeplacken 25-27\, Oldenburg\, 26129
ORGANIZER;CN="CDU Oldenburg-Stadt":MAILTO:info@cdu-oldenburg.de
END:VEVENT
BEGIN:VEVENT
DTSTART;TZID=Europe/Berlin:20240309T110000
DTEND;TZID=Europe/Berlin:20240309T140000
DTSTAMP:20260422T163945
CREATED:20240304T183246Z
LAST-MODIFIED:20240304T183246Z
UID:3193-1709982000-1709992800@cdu-oldenburg.de
SUMMARY:CDU Grundsatzprogramm: Einführung und Antragsberatung
DESCRIPTION:Liebe Mitglieder der CDU Oldenburg-Stadt\, \nwir laden Sie herzlich zur bevorstehenden Veranstaltung zum neuen CDU Grundsatzprogramm ein. Wir stehen vor einem bedeutenden Moment in unserer Partei: Nach 1978\, 1994 und 2007 präsentieren wir das vierte Grundsatzprogramm unserer Geschichte. Diese markiert eine wichtige Etappe für die CDU\, die wir nutzen möchten\, um im Vorfeld gemeinsam darüber zu diskutieren. \nUnser MdB Stephan Albani\, Mitglied der Fach- und Grundsatzkommission\, wird über den bisherigen Ablauf und die Ergebnisse des Grundsatzprogramms referieren. Anschließend bieten wir Ihnen die Gelegenheit\, in mehreren Themengruppen Änderungsanträge zu erarbeiten\, die dann noch für den großen CDU-Bundesparteitag im Mai eingereicht werden können. \nBitte geben Sie uns bis zum 05.03. unter info@cdu-oldenburg.de Bescheid\, ob Sie an der Veranstaltung teilnehmen können. Wir freuen uns über Ihre Teilnahme und aktive Beteiligung.
URL:https://cdu-oldenburg.de/event/cdu-grundsatzprogramm-einfuehrung-und-antragsberatung/
LOCATION:Intern – Siehe Mitgliederkommunikation
ORGANIZER;CN="CDU Oldenburg-Stadt":MAILTO:info@cdu-oldenburg.de
END:VEVENT
END:VCALENDAR